BEGIN:VCALENDAR
VERSION:2.0
CALSCALE:GREGORIAN
PRODID:-//Diputació de Barcelona//DibaCMS//EN
BEGIN:VEVENT
UID:56806
DTSTAMP:20260421T130726
DTSTART:20230513T173000
DTEND:20230513T173000
SUMMARY:Trobada Gegantera
LOCATION:
METHOD:PUBLISH
X-WR-CALNAME:info@llinarsdelvalles.cat
X-WR-TIMEZONE:Europe/Madrid
DESCRIPTION:A càrrec de la Colla Gegantera La Patufa.

URI:https://www.llinarsdelvalles.cat/actualitat/agenda/trobada-gegantera.html
CLASS:PUBLIC
END:VEVENT
END:VCALENDAR
