BEGIN:VCALENDAR
VERSION:2.0
CALSCALE:GREGORIAN
PRODID:-//Diputació de Barcelona//DibaCMS//EN
BEGIN:VEVENT
UID:56808
DTSTAMP:20260421T081450
DTSTART:20230514T160000
DTEND:20230514T160000
SUMMARY:XIII Cursa del Damià Mateu
LOCATION:08450 Llinars del Vallès
METHOD:PUBLISH
X-WR-CALNAME:info@llinarsdelvalles.cat
X-WR-TIMEZONE:Europe/Madrid
DESCRIPTION:A càrrec de l'AFA Damià Mateu.

URI:https://www.llinarsdelvalles.cat/actualitat/agenda/xiii-cursa-del-damia-mateu.html
CLASS:PUBLIC
END:VEVENT
END:VCALENDAR
