BEGIN:VCALENDAR
VERSION:2.0
CALSCALE:GREGORIAN
PRODID:-//Diputació de Barcelona//DibaCMS//EN
BEGIN:VEVENT
UID:56809
DTSTAMP:20260421T081638
DTSTART:20230518T180000
DTEND:20230518T180000
SUMMARY:Taller adults "Decorem i plantem" 
LOCATION:Av. Pau Casals, 26 08450 Llinars del Vallès
METHOD:PUBLISH
X-WR-CALNAME:info@llinarsdelvalles.cat
X-WR-TIMEZONE:Europe/Madrid
DESCRIPTION:A càrrec de Maria Pey.

URI:https://www.llinarsdelvalles.cat/actualitat/agenda/taller-adults-decorem-i-plantem-.html
CLASS:PUBLIC
END:VEVENT
END:VCALENDAR
