BEGIN:VCALENDAR
VERSION:2.0
CALSCALE:GREGORIAN
PRODID:-//Diputació de Barcelona//DibaCMS//EN
BEGIN:VEVENT
UID:56810
DTSTAMP:20260421T092327
DTSTART:20230511T180000
DTEND:20230511T180000
SUMMARY:Vine, nosaltres posem la cadira!
LOCATION:
METHOD:PUBLISH
X-WR-CALNAME:info@llinarsdelvalles.cat
X-WR-TIMEZONE:Europe/Madrid
DESCRIPTION:Espai obert de conversa amb dones de totes les edats.
Vine a compartir les teves necessitats i opinions i juntes pensarem propostes de millora.

URI:https://www.llinarsdelvalles.cat/actualitat/agenda/vine-nosaltres-posem-la-cadira.html
CLASS:PUBLIC
END:VEVENT
END:VCALENDAR
