BEGIN:VCALENDAR
VERSION:2.0
CALSCALE:GREGORIAN
PRODID:-//Diputació de Barcelona//DibaCMS//EN
BEGIN:VEVENT
UID:56811
DTSTAMP:20260421T070132
DTSTART:20230615T180000
DTEND:20230615T180000
SUMMARY:Vine, nosaltres posem la cadira!
LOCATION:
METHOD:PUBLISH
X-WR-CALNAME:info@llinarsdelvalles.cat
X-WR-TIMEZONE:Europe/Madrid
DESCRIPTION:ATENCIÓ! Acte ajornat!
En breu informarem sobre la nova data!

URI:https://www.llinarsdelvalles.cat/actualitat/agenda/56811-vine-nosaltres-posem-la-cadira.html
CLASS:PUBLIC
END:VEVENT
END:VCALENDAR
