BEGIN:VCALENDAR
VERSION:2.0
CALSCALE:GREGORIAN
PRODID:-//Diputació de Barcelona//DibaCMS//EN
BEGIN:VEVENT
UID:56812
DTSTAMP:20260421T054757
DTSTART:20230519T173000
DTEND:20230519T173000
SUMMARY:Tallers en família "mini pastissets de xocolata"
LOCATION:C/ Josep Argila, 39 08450 Llinars del Vallés
METHOD:PUBLISH
X-WR-CALNAME:info@llinarsdelvalles.cat
X-WR-TIMEZONE:Europe/Madrid
DESCRIPTION:
URI:https://www.llinarsdelvalles.cat/actualitat/agenda/tallers-en-familia-mini-pastissets-de-xocolata.html
CLASS:PUBLIC
END:VEVENT
END:VCALENDAR
