BEGIN:VCALENDAR
VERSION:2.0
CALSCALE:GREGORIAN
PRODID:-//Diputació de Barcelona//DibaCMS//EN
BEGIN:VEVENT
UID:56813
DTSTAMP:20260421T060245
DTSTART:20230609T173000
DTEND:20230609T173000
SUMMARY:Tallers en família "Receptes d'estiu! Smoothies, batuts i postres"
LOCATION:C/ Josep Argila, 39 08450 Llinars del Vallés
METHOD:PUBLISH
X-WR-CALNAME:info@llinarsdelvalles.cat
X-WR-TIMEZONE:Europe/Madrid
DESCRIPTION:
URI:https://www.llinarsdelvalles.cat/actualitat/agenda/tallers-en-familia-receptes-destiu-smoothies-batuts-i-postres.html
CLASS:PUBLIC
END:VEVENT
END:VCALENDAR
