BEGIN:VCALENDAR
VERSION:2.0
CALSCALE:GREGORIAN
PRODID:-//Diputació de Barcelona//DibaCMS//EN
BEGIN:VEVENT
UID:56814
DTSTAMP:20260421T033847
DTSTART:20230519T190000
DTEND:20230519T190000
SUMMARY:Activitat familiar "Supernit amb el Super3"
LOCATION:Av. Pau Casals, 26 08450 Llinars del Vallès
METHOD:PUBLISH
X-WR-CALNAME:info@llinarsdelvalles.cat
X-WR-TIMEZONE:Europe/Madrid
DESCRIPTION:A càrrec de 3/4 de 15.

URI:https://www.llinarsdelvalles.cat/actualitat/agenda/activitat-familiar-supernit-amb-el-super3.html
CLASS:PUBLIC
END:VEVENT
END:VCALENDAR
