BEGIN:VCALENDAR
VERSION:2.0
CALSCALE:GREGORIAN
PRODID:-//Diputació de Barcelona//DibaCMS//EN
BEGIN:VEVENT
UID:56815
DTSTAMP:20260421T045637
DTSTART:20230521T183000
DTEND:20230521T183000
SUMMARY:Ballada de sardanes amb la cobla Ciutat de Terrassa
LOCATION:Plaça Caritg 
METHOD:PUBLISH
X-WR-CALNAME:info@llinarsdelvalles.cat
X-WR-TIMEZONE:Europe/Madrid
DESCRIPTION:A càrrec de l'Agrupació Sardanista Llinars.

URI:https://www.llinarsdelvalles.cat/actualitat/agenda/56815-ballada-de-sardanes-amb-la-cobla-ciutat-de-terrassa.html
CLASS:PUBLIC
END:VEVENT
END:VCALENDAR
