BEGIN:VCALENDAR
VERSION:2.0
CALSCALE:GREGORIAN
PRODID:-//Diputació de Barcelona//DibaCMS//EN
BEGIN:VEVENT
UID:56816
DTSTAMP:20260421T081912
DTSTART:20230525T170000
DTEND:20230525T170000
SUMMARY:Taller familiar "Fem Planter"
LOCATION:Av. Pau Casals, 26 08450 Llinars del Vallès
METHOD:PUBLISH
X-WR-CALNAME:info@llinarsdelvalles.cat
X-WR-TIMEZONE:Europe/Madrid
DESCRIPTION:A càrrec de Neus Solà.

URI:https://www.llinarsdelvalles.cat/actualitat/agenda/taller-familiar-fem-planter.html
CLASS:PUBLIC
END:VEVENT
END:VCALENDAR
