BEGIN:VCALENDAR
VERSION:2.0
CALSCALE:GREGORIAN
PRODID:-//Diputació de Barcelona//DibaCMS//EN
BEGIN:VEVENT
UID:56819
DTSTAMP:20260421T073222
DTSTART:20230503T000000
DTEND:20230529T000000
SUMMARY:Exposició de fotografia "Història gràfica de Llinars: l'evolució del poble"
LOCATION:Av. Pau Casals, 26 08450 Llinars del Vallès
METHOD:PUBLISH
X-WR-CALNAME:info@llinarsdelvalles.cat
X-WR-TIMEZONE:Europe/Madrid
DESCRIPTION:A càrrec de Pere Serra.

URI:https://www.llinarsdelvalles.cat/actualitat/agenda/exposicio-de-fotografia-historia-grafica-de-llinars-levolucio-del-poble.html
CLASS:PUBLIC
END:VEVENT
END:VCALENDAR
