BEGIN:VCALENDAR
VERSION:2.0
CALSCALE:GREGORIAN
PRODID:-//Diputació de Barcelona//DibaCMS//EN
BEGIN:VEVENT
UID:56820
DTSTAMP:20260421T045825
DTSTART:20230527T000000
DTEND:20230618T000000
SUMMARY:Exposició de pintura "Geografías del alma"
LOCATION:Espai Ruscalleda Art
C/ Major, 32 (Llinars del Vallès) 
METHOD:PUBLISH
X-WR-CALNAME:info@llinarsdelvalles.cat
X-WR-TIMEZONE:Europe/Madrid
DESCRIPTION:A càrrec de Marcos Zrihen.

URI:https://www.llinarsdelvalles.cat/actualitat/agenda/exposicio-de-pintura-geografias-del-alma.html
CLASS:PUBLIC
END:VEVENT
END:VCALENDAR
