BEGIN:VCALENDAR
VERSION:2.0
CALSCALE:GREGORIAN
PRODID:-//Diputació de Barcelona//DibaCMS//EN
BEGIN:VEVENT
UID:56821
DTSTAMP:20260421T092510
DTSTART:20230528T170000
DTEND:20230528T170000
SUMMARY:Ball maig florit
LOCATION:C/ Ramon i Cajal - (cantonada Av. Granollers) 08450 Llinars del Vallés
METHOD:PUBLISH
X-WR-CALNAME:info@llinarsdelvalles.cat
X-WR-TIMEZONE:Europe/Madrid
DESCRIPTION:Amb l'orquestra "Xarop de nit"

URI:https://www.llinarsdelvalles.cat/actualitat/agenda/ball-maig-florit.html
CLASS:PUBLIC
END:VEVENT
END:VCALENDAR
