BEGIN:VCALENDAR
VERSION:2.0
CALSCALE:GREGORIAN
PRODID:-//Diputació de Barcelona//DibaCMS//EN
BEGIN:VEVENT
UID:56822
DTSTAMP:20260421T044728
DTSTART:20230517T080000
DTEND:20230517T080000
SUMMARY:Sortida a Girona "Temps de Flors"
LOCATION:
METHOD:PUBLISH
X-WR-CALNAME:info@llinarsdelvalles.cat
X-WR-TIMEZONE:Europe/Madrid
DESCRIPTION:Informació i reserves: Gent Gran i Pensionista de Llinars del Vallès, tf. 938413640

URI:https://www.llinarsdelvalles.cat/actualitat/agenda/sortida-a-girona-temps-de-flors.html
CLASS:PUBLIC
END:VEVENT
END:VCALENDAR
