BEGIN:VCALENDAR
VERSION:2.0
CALSCALE:GREGORIAN
PRODID:-//Diputació de Barcelona//DibaCMS//EN
BEGIN:VEVENT
UID:56823
DTSTAMP:20260421T045541
DTSTART:20230522T170000
DTEND:20230522T170000
SUMMARY:Qigong, coneixement i pràctica d'exercicis de medicina xinesa
LOCATION:C/ Ramon i Cajal - (cantonada Av. Granollers) 08450 Llinars del Vallés
METHOD:PUBLISH
X-WR-CALNAME:info@llinarsdelvalles.cat
X-WR-TIMEZONE:Europe/Madrid
DESCRIPTION:A càrrec de Mireia Miracle, especialista en medicina xinesa.

URI:https://www.llinarsdelvalles.cat/actualitat/agenda/qigong-coneixement-i-practica-dexercicis-de-medicina-xinesa.html
CLASS:PUBLIC
END:VEVENT
END:VCALENDAR
