BEGIN:VCALENDAR
VERSION:2.0
CALSCALE:GREGORIAN
PRODID:-//Diputació de Barcelona//DibaCMS//EN
BEGIN:VEVENT
UID:56824
DTSTAMP:20260421T022905
DTSTART:20230503T000000
DTEND:20230530T000000
SUMMARY:Exposició de pintura
LOCATION:C/ Ramon i Cajal - (cantonada Av. Granollers) 08450 Llinars del Vallés
METHOD:PUBLISH
X-WR-CALNAME:info@llinarsdelvalles.cat
X-WR-TIMEZONE:Europe/Madrid
DESCRIPTION:A càrrec de Teresa Sierra Mayo.

URI:https://www.llinarsdelvalles.cat/actualitat/agenda/exposicio-de-pintura.html
CLASS:PUBLIC
END:VEVENT
END:VCALENDAR
