BEGIN:VCALENDAR
VERSION:2.0
CALSCALE:GREGORIAN
PRODID:-//Diputació de Barcelona//DibaCMS//EN
BEGIN:VEVENT
UID:56828
DTSTAMP:20260421T013927
DTSTART:20230714T220000
DTEND:20230714T220000
SUMMARY:Íntimament Llach amb la veu de Neus Mar
LOCATION:08450 Llinars del Vallès
METHOD:PUBLISH
X-WR-CALNAME:info@llinarsdelvalles.cat
X-WR-TIMEZONE:Europe/Madrid
DESCRIPTION:Dintre del Cicle de Concerts i Copes al Castell Nou.

URI:https://www.llinarsdelvalles.cat/actualitat/agenda/intimament-llach-amb-la-veu-de-neus-mar.html
CLASS:PUBLIC
END:VEVENT
END:VCALENDAR
