BEGIN:VCALENDAR
VERSION:2.0
CALSCALE:GREGORIAN
PRODID:-//Diputació de Barcelona//DibaCMS//EN
BEGIN:VEVENT
UID:56830
DTSTAMP:20260421T025108
DTSTART:20230728T220000
DTEND:20230728T220000
SUMMARY:Blues and Roots amb Sílvia Marsó i Del Toro Blues Band
LOCATION:08450 Llinars del Vallès
METHOD:PUBLISH
X-WR-CALNAME:info@llinarsdelvalles.cat
X-WR-TIMEZONE:Europe/Madrid
DESCRIPTION:Dintre del Cicle de Concerts i Copes al Castell Nou.

URI:https://www.llinarsdelvalles.cat/actualitat/agenda/blues-and-roots-amb-silvia-marso-i-del-toro-blues-band.html
CLASS:PUBLIC
END:VEVENT
END:VCALENDAR
