BEGIN:VCALENDAR
VERSION:2.0
CALSCALE:GREGORIAN
PRODID:-//Diputació de Barcelona//DibaCMS//EN
BEGIN:VEVENT
UID:56833
DTSTAMP:20260421T034907
DTSTART:20230518T100000
DTEND:20230518T100000
SUMMARY:Taller "El porteig"
LOCATION:C/ Ramon i Cajal - (cantonada Av. Granollers) 08450 Llinars del Vallés
METHOD:PUBLISH
X-WR-CALNAME:info@llinarsdelvalles.cat
X-WR-TIMEZONE:Europe/Madrid
DESCRIPTION:A càrrec de Gemma Guillamon.

URI:https://www.llinarsdelvalles.cat/actualitat/agenda/taller-el-porteig.html
CLASS:PUBLIC
END:VEVENT
END:VCALENDAR
