BEGIN:VCALENDAR
VERSION:2.0
CALSCALE:GREGORIAN
PRODID:-//Diputació de Barcelona//DibaCMS//EN
BEGIN:VEVENT
UID:56834
DTSTAMP:20260421T115708
DTSTART:20230617T080000
DTEND:20230617T080000
SUMMARY:Excursió a Tarragona
LOCATION:C/ Ramon i Cajal - (cantonada Av. Granollers) 08450 Llinars del Vallés
METHOD:PUBLISH
X-WR-CALNAME:info@llinarsdelvalles.cat
X-WR-TIMEZONE:Europe/Madrid
DESCRIPTION:Organitzada per l'Associació de Gent Gran i Pensionista de Llinars.

URI:https://www.llinarsdelvalles.cat/actualitat/agenda/excursio-a-tarragona.html
CLASS:PUBLIC
END:VEVENT
END:VCALENDAR
