BEGIN:VCALENDAR
VERSION:2.0
CALSCALE:GREGORIAN
PRODID:-//Diputació de Barcelona//DibaCMS//EN
BEGIN:VEVENT
UID:56841
DTSTAMP:20260421T054046
DTSTART:20230917T180000
DTEND:20230917T180000
SUMMARY:Somni d'una nit d'estiu
LOCATION:Ronda Sant Antoni, 19 08450 Llinars del Vallès
METHOD:PUBLISH
X-WR-CALNAME:info@llinarsdelvalles.cat
X-WR-TIMEZONE:Europe/Madrid
DESCRIPTION:Teatre al Teatre Auditori.

URI:https://www.llinarsdelvalles.cat/actualitat/agenda/somni-duna-nit-destiu.html
CLASS:PUBLIC
END:VEVENT
END:VCALENDAR
