BEGIN:VCALENDAR
VERSION:2.0
CALSCALE:GREGORIAN
PRODID:-//Diputació de Barcelona//DibaCMS//EN
BEGIN:VEVENT
UID:56847
DTSTAMP:20260421T000147
DTSTART:20231021T180000
DTEND:20231021T180000
SUMMARY:Calidoscòpia
LOCATION:Ronda Sant Antoni, 19 08450 Llinars del Vallès
METHOD:PUBLISH
X-WR-CALNAME:info@llinarsdelvalles.cat
X-WR-TIMEZONE:Europe/Madrid
DESCRIPTION:Dansa multidisciplinar.

URI:https://www.llinarsdelvalles.cat/actualitat/agenda/calidoscopia.html
CLASS:PUBLIC
END:VEVENT
END:VCALENDAR
