BEGIN:VCALENDAR
VERSION:2.0
CALSCALE:GREGORIAN
PRODID:-//Diputació de Barcelona//DibaCMS//EN
BEGIN:VEVENT
UID:56850
DTSTAMP:20260420T224946
DTSTART:20231105T180000
DTEND:20231105T180000
SUMMARY:L'Alegria que passa
LOCATION:Ronda Sant Antoni, 19 08450 Llinars del Vallès
METHOD:PUBLISH
X-WR-CALNAME:info@llinarsdelvalles.cat
X-WR-TIMEZONE:Europe/Madrid
DESCRIPTION:Teatre musical al Teatre Auditori.
Dues sessions: 18 h i 20.30 h

URI:https://www.llinarsdelvalles.cat/actualitat/agenda/lalegria-que-passa.html
CLASS:PUBLIC
END:VEVENT
END:VCALENDAR
