BEGIN:VCALENDAR
VERSION:2.0
CALSCALE:GREGORIAN
PRODID:-//Diputació de Barcelona//DibaCMS//EN
BEGIN:VEVENT
UID:56855
DTSTAMP:20260420T213038
DTSTART:20231216T203000
DTEND:20231216T203000
SUMMARY:El Trencanous
LOCATION:Ronda Sant Antoni, 19 08450 Llinars del Vallès
METHOD:PUBLISH
X-WR-CALNAME:info@llinarsdelvalles.cat
X-WR-TIMEZONE:Europe/Madrid
DESCRIPTION:Ballet al Teatre Auditori.

URI:https://www.llinarsdelvalles.cat/actualitat/agenda/el-trencanous.html
CLASS:PUBLIC
END:VEVENT
END:VCALENDAR
