BEGIN:VCALENDAR
VERSION:2.0
CALSCALE:GREGORIAN
PRODID:-//Diputació de Barcelona//DibaCMS//EN
BEGIN:VEVENT
UID:56858
DTSTAMP:20260421T054533
DTSTART:20230608T190000
DTEND:20230608T190000
SUMMARY:La Maso Talks
LOCATION:
METHOD:PUBLISH
X-WR-CALNAME:info@llinarsdelvalles.cat
X-WR-TIMEZONE:Europe/Madrid
DESCRIPTION:Amb Mònica Morlans.

URI:https://www.llinarsdelvalles.cat/actualitat/agenda/la-maso-talks.html
CLASS:PUBLIC
END:VEVENT
END:VCALENDAR
