BEGIN:VCALENDAR
VERSION:2.0
CALSCALE:GREGORIAN
PRODID:-//Diputació de Barcelona//DibaCMS//EN
BEGIN:VEVENT
UID:56862
DTSTAMP:20260421T054234
DTSTART:20230606T183000
DTEND:20230606T183000
SUMMARY:Jornades Educatives
LOCATION:C/ Josep Argila, 39 08450 Llinars del Vallés
METHOD:PUBLISH
X-WR-CALNAME:info@llinarsdelvalles.cat
X-WR-TIMEZONE:Europe/Madrid
DESCRIPTION:De l'escola a la família i de la família a tu: “Gestió emocional i autoestima"

URI:https://www.llinarsdelvalles.cat/actualitat/agenda/jornades-educatives.html
CLASS:PUBLIC
END:VEVENT
END:VCALENDAR
