BEGIN:VCALENDAR
VERSION:2.0
CALSCALE:GREGORIAN
PRODID:-//Diputació de Barcelona//DibaCMS//EN
BEGIN:VEVENT
UID:56863
DTSTAMP:20260421T024234
DTSTART:20230602T160000
DTEND:20230602T160000
SUMMARY:Escolta Jove - Taller pre Pau
LOCATION:Av. Mas Bagà, 26 08450 Llinars del Vallès
METHOD:PUBLISH
X-WR-CALNAME:info@llinarsdelvalles.cat
X-WR-TIMEZONE:Europe/Madrid
DESCRIPTION:Primer taller del projecte "Escolta Jove" dirigit a joves que s'estan preparant per a les PAU.

URI:https://www.llinarsdelvalles.cat/actualitat/agenda/escolta-jove-taller-pre-pau.html
CLASS:PUBLIC
END:VEVENT
END:VCALENDAR
