BEGIN:VCALENDAR
VERSION:2.0
CALSCALE:GREGORIAN
PRODID:-//Diputació de Barcelona//DibaCMS//EN
BEGIN:VEVENT
UID:56872
DTSTAMP:20260421T055910
DTSTART:20230611T103000
DTEND:20230611T133000
SUMMARY:Taller per aprendre i dibuixar el cant dels ocells
LOCATION:Carrer Còrsega, 10 (Can Moix) 08450 Llinars del Vallès
METHOD:PUBLISH
X-WR-CALNAME:info@llinarsdelvalles.cat
X-WR-TIMEZONE:Europe/Madrid
DESCRIPTION:Impartit per Pere Alzina (biòleg, consultor i comunicador ambiental).
Activitat emmarcada en la Setmana de la Natura.

URI:https://www.llinarsdelvalles.cat/actualitat/agenda/taller-per-aprendre-i-dibuixar-el-cant-dels-ocells.html
CLASS:PUBLIC
END:VEVENT
END:VCALENDAR
