BEGIN:VCALENDAR
VERSION:2.0
CALSCALE:GREGORIAN
PRODID:-//Diputació de Barcelona//DibaCMS//EN
BEGIN:VEVENT
UID:56878
DTSTAMP:20260421T062021
DTSTART:20230627T180000
DTEND:20230627T200000
SUMMARY:Jocs Gegants
LOCATION:Av. Pau Casals, 26 08450 Llinars del Vallès
METHOD:PUBLISH
X-WR-CALNAME:info@llinarsdelvalles.cat
X-WR-TIMEZONE:Europe/Madrid
DESCRIPTION:Davant la façana de la biblioteca.

URI:https://www.llinarsdelvalles.cat/actualitat/agenda/56878-jocs-gegants.html
CLASS:PUBLIC
END:VEVENT
END:VCALENDAR
