BEGIN:VCALENDAR
VERSION:2.0
CALSCALE:GREGORIAN
PRODID:-//Diputació de Barcelona//DibaCMS//EN
BEGIN:VEVENT
UID:56879
DTSTAMP:20260421T115530
DTSTART:20230609T190000
DTEND:20230609T190000
SUMMARY:Presentació KM0 - Records de deu dones
LOCATION:
METHOD:PUBLISH
X-WR-CALNAME:info@llinarsdelvalles.cat
X-WR-TIMEZONE:Europe/Madrid
DESCRIPTION:Autores del col·lectiu Pasta de Full i memebres del Till Tall.

URI:https://www.llinarsdelvalles.cat/actualitat/agenda/presentacio-km0-records-de-deu-dones.html
CLASS:PUBLIC
END:VEVENT
END:VCALENDAR
