BEGIN:VCALENDAR
VERSION:2.0
CALSCALE:GREGORIAN
PRODID:-//Diputació de Barcelona//DibaCMS//EN
BEGIN:VEVENT
UID:56880
DTSTAMP:20260421T024041
DTSTART:20230603T100000
DTEND:20230603T130000
SUMMARY:Sortida Km0 - Torrent de Can Mora: de la Ribera al Sequer
LOCATION:
METHOD:PUBLISH
X-WR-CALNAME:info@llinarsdelvalles.cat
X-WR-TIMEZONE:Europe/Madrid
DESCRIPTION:A càrrec d'un expert de l'Escola de Natura del Corredor. dintre del programa "Parc i biblioteques... naturalment".

URI:https://www.llinarsdelvalles.cat/actualitat/agenda/sortida-km0-torrent-de-can-mora-de-la-ribera-al-sequer.html
CLASS:PUBLIC
END:VEVENT
END:VCALENDAR
