BEGIN:VCALENDAR
VERSION:2.0
CALSCALE:GREGORIAN
PRODID:-//Diputació de Barcelona//DibaCMS//EN
BEGIN:VEVENT
UID:56882
DTSTAMP:20260421T035501
DTSTART:20230617T110000
DTEND:20230617T110000
SUMMARY:Hora menuda - Marieta, vola vola!
LOCATION:
METHOD:PUBLISH
X-WR-CALNAME:info@llinarsdelvalles.cat
X-WR-TIMEZONE:Europe/Madrid
DESCRIPTION:A càrrec de Núria Clemares.

URI:https://www.llinarsdelvalles.cat/actualitat/agenda/hora-menuda-marieta-vola-vola.html
CLASS:PUBLIC
END:VEVENT
END:VCALENDAR
