BEGIN:VCALENDAR
VERSION:2.0
CALSCALE:GREGORIAN
PRODID:-//Diputació de Barcelona//DibaCMS//EN
BEGIN:VEVENT
UID:56883
DTSTAMP:20260421T065212
DTSTART:20230603T110000
DTEND:20230603T110000
SUMMARY:Xerrada per a famílies - Les teves paraules moldegen els teus fills
LOCATION:Av. Pau Casals, 26 08450 Llinars del Vallès
METHOD:PUBLISH
X-WR-CALNAME:info@llinarsdelvalles.cat
X-WR-TIMEZONE:Europe/Madrid
DESCRIPTION:A càrrec de Cristina Oliva, periodista, assessora de criança i doula.

URI:https://www.llinarsdelvalles.cat/actualitat/agenda/xerrada-per-a-families-les-teves-paraules-moldegen-els-teus-fills.html
CLASS:PUBLIC
END:VEVENT
END:VCALENDAR
