BEGIN:VCALENDAR
VERSION:2.0
CALSCALE:GREGORIAN
PRODID:-//Diputació de Barcelona//DibaCMS//EN
BEGIN:VEVENT
UID:56884
DTSTAMP:20260421T054606
DTSTART:20230601T000000
DTEND:20230629T000000
SUMMARY:Exposició Km0 - Refugiats
LOCATION:
METHOD:PUBLISH
X-WR-CALNAME:info@llinarsdelvalles.cat
X-WR-TIMEZONE:Europe/Madrid
DESCRIPTION:A càrrec d'Antonio Velasco Gómez.

URI:https://www.llinarsdelvalles.cat/actualitat/agenda/exposicio-km0-refugiats.html
CLASS:PUBLIC
END:VEVENT
END:VCALENDAR
