BEGIN:VCALENDAR
VERSION:2.0
CALSCALE:GREGORIAN
PRODID:-//Diputació de Barcelona//DibaCMS//EN
BEGIN:VEVENT
UID:56885
DTSTAMP:20260421T073305
DTSTART:20230608T183000
DTEND:20230608T183000
SUMMARY:Xerrada - Com ha evolucionat la música de la publicitat des dels anys 50 del segle passat fins als nostres dies
LOCATION:Av. Pau Casals, 26 08450 Llinars del Vallès
METHOD:PUBLISH
X-WR-CALNAME:info@llinarsdelvalles.cat
X-WR-TIMEZONE:Europe/Madrid
DESCRIPTION:A càrrec de Jaume Badrenas. Projecte Música a fons.

URI:https://www.llinarsdelvalles.cat/actualitat/agenda/xerrada-com-ha-evolucionat-la-musica-de-la-publicitat.html
CLASS:PUBLIC
END:VEVENT
END:VCALENDAR
