BEGIN:VCALENDAR
VERSION:2.0
CALSCALE:GREGORIAN
PRODID:-//Diputació de Barcelona//DibaCMS//EN
BEGIN:VEVENT
UID:56887
DTSTAMP:20260421T092348
DTSTART:20230616T180000
DTEND:20230616T180000
SUMMARY:Taller adults - Cosmètica natural
LOCATION:Av. Pau Casals, 26 08450 Llinars del Vallès
METHOD:PUBLISH
X-WR-CALNAME:info@llinarsdelvalles.cat
X-WR-TIMEZONE:Europe/Madrid
DESCRIPTION:Crema facial, oli corporal i pasta de dents.
A càrrec de Neus Gasulla i Albert Vives.

URI:https://www.llinarsdelvalles.cat/actualitat/agenda/taller-adults-cosmetica-natural.html
CLASS:PUBLIC
END:VEVENT
END:VCALENDAR
