BEGIN:VCALENDAR
VERSION:2.0
CALSCALE:GREGORIAN
PRODID:-//Diputació de Barcelona//DibaCMS//EN
BEGIN:VEVENT
UID:56889
DTSTAMP:20260421T013119
DTSTART:20230603T100000
DTEND:20230603T133000
SUMMARY:Robotseny i Montquímic
LOCATION:
METHOD:PUBLISH
X-WR-CALNAME:info@llinarsdelvalles.cat
X-WR-TIMEZONE:Europe/Madrid
DESCRIPTION:Competició de robots i Fira científica.
 

URI:https://www.llinarsdelvalles.cat/actualitat/agenda/robotseny-i-montquimic.html
CLASS:PUBLIC
END:VEVENT
END:VCALENDAR
