BEGIN:VCALENDAR
VERSION:2.0
CALSCALE:GREGORIAN
PRODID:-//Diputació de Barcelona//DibaCMS//EN
BEGIN:VEVENT
UID:56891
DTSTAMP:20260421T050143
DTSTART:20230601T100000
DTEND:20230601T100000
SUMMARY:Taller puntual de maquillatge personalitzat "Fumats"
LOCATION:C/ Josep Argila, 39 08450 Llinars del Vallés
METHOD:PUBLISH
X-WR-CALNAME:info@llinarsdelvalles.cat
X-WR-TIMEZONE:Europe/Madrid
DESCRIPTION:A càrrec de D'Ara Corbaud.

URI:https://www.llinarsdelvalles.cat/actualitat/agenda/taller-puntual-de-maquillatge-personalitzat-fumats.html
CLASS:PUBLIC
END:VEVENT
END:VCALENDAR
