BEGIN:VCALENDAR
VERSION:2.0
CALSCALE:GREGORIAN
PRODID:-//Diputació de Barcelona//DibaCMS//EN
BEGIN:VEVENT
UID:56892
DTSTAMP:20260421T092449
DTSTART:20230530T000000
DTEND:20230530T000000
SUMMARY:Taller puntual de maquillatge
LOCATION:
METHOD:PUBLISH
X-WR-CALNAME:info@llinarsdelvalles.cat
X-WR-TIMEZONE:Europe/Madrid
DESCRIPTION:
URI:https://www.llinarsdelvalles.cat/actualitat/agenda/taller-puntual-de-maquillatge.html
CLASS:PUBLIC
END:VEVENT
END:VCALENDAR
