BEGIN:VCALENDAR
VERSION:2.0
CALSCALE:GREGORIAN
PRODID:-//Diputació de Barcelona//DibaCMS//EN
BEGIN:VEVENT
UID:56893
DTSTAMP:20260421T063110
DTSTART:20230602T170000
DTEND:20230602T170000
SUMMARY:CINE.MASO cicle de pel·lícules
LOCATION:Av. Mas Bagà, 26 08450 Llinars del Vallès
METHOD:PUBLISH
X-WR-CALNAME:info@llinarsdelvalles.cat
X-WR-TIMEZONE:Europe/Madrid
DESCRIPTION:Continuem amb el cicle de pel·lícules de "La vida als marges"
Aquest cop la pel·lícula que veurem serà "Into the wild" 
 

URI:https://www.llinarsdelvalles.cat/actualitat/agenda/cinemaso-cicle-de-pellicules.html
CLASS:PUBLIC
END:VEVENT
END:VCALENDAR
