BEGIN:VCALENDAR
VERSION:2.0
CALSCALE:GREGORIAN
PRODID:-//Diputació de Barcelona//DibaCMS//EN
BEGIN:VEVENT
UID:56894
DTSTAMP:20260421T024920
DTSTART:20230602T210000
DTEND:20230602T210000
SUMMARY:Assaig obert del grup de teatre Till Tall
LOCATION:Ronda Sant Antoni, 19 08450 Llinars del Vallès
METHOD:PUBLISH
X-WR-CALNAME:info@llinarsdelvalles.cat
X-WR-TIMEZONE:Europe/Madrid
DESCRIPTION:Amb motiu del Dia de l'Associacionisme Cultural (DASC) el Till-Tall es suma a les activitats que es fan arreu del territori i obre les portes d'un dels seus assajos.

URI:https://www.llinarsdelvalles.cat/actualitat/agenda/assaig-obert-del-grup-de-teatre-till-tall.html
CLASS:PUBLIC
END:VEVENT
END:VCALENDAR
