BEGIN:VCALENDAR
VERSION:2.0
CALSCALE:GREGORIAN
PRODID:-//Diputació de Barcelona//DibaCMS//EN
BEGIN:VEVENT
UID:56895
DTSTAMP:20260421T032448
DTSTART:20230603T090000
DTEND:20230603T090000
SUMMARY:Diada del bàsquet
LOCATION:Av. Pau Casals, 18-20 (Àrea central) 08450 Llinars del Vallès
METHOD:PUBLISH
X-WR-CALNAME:info@llinarsdelvalles.cat
X-WR-TIMEZONE:Europe/Madrid
DESCRIPTION:Per a nens i nenes de P5 a 6è de primària.

URI:https://www.llinarsdelvalles.cat/actualitat/agenda/diada-del-basquet.html
CLASS:PUBLIC
END:VEVENT
END:VCALENDAR
