BEGIN:VCALENDAR
VERSION:2.0
CALSCALE:GREGORIAN
PRODID:-//Diputació de Barcelona//DibaCMS//EN
BEGIN:VEVENT
UID:56896
DTSTAMP:20260421T021633
DTSTART:20230604T100000
DTEND:20230604T100000
SUMMARY:Mercat boig
LOCATION:
METHOD:PUBLISH
X-WR-CALNAME:info@llinarsdelvalles.cat
X-WR-TIMEZONE:Europe/Madrid
DESCRIPTION:Al pg. Europa de les Nacions.

URI:https://www.llinarsdelvalles.cat/actualitat/agenda/56896-mercat-boig.html
CLASS:PUBLIC
END:VEVENT
END:VCALENDAR
