BEGIN:VCALENDAR
VERSION:2.0
CALSCALE:GREGORIAN
PRODID:-//Diputació de Barcelona//DibaCMS//EN
BEGIN:VEVENT
UID:56898
DTSTAMP:20260421T013257
DTSTART:20230604T160000
DTEND:20230604T160000
SUMMARY:XIII Cursa de l'escola Damià Mateu
LOCATION:C/ de Joaquim Blume, 19 08450 Llinars del Vallés
METHOD:PUBLISH
X-WR-CALNAME:info@llinarsdelvalles.cat
X-WR-TIMEZONE:Europe/Madrid
DESCRIPTION:
URI:https://www.llinarsdelvalles.cat/actualitat/agenda/xiii-cursa-de-lescola-damia-mateu.html
CLASS:PUBLIC
END:VEVENT
END:VCALENDAR
