BEGIN:VCALENDAR
VERSION:2.0
CALSCALE:GREGORIAN
PRODID:-//Diputació de Barcelona//DibaCMS//EN
BEGIN:VEVENT
UID:56899
DTSTAMP:20260421T022414
DTSTART:20230611T080000
DTEND:20230611T200000
SUMMARY:Open Barcelona - promoció nivell 1, 2, 3, 4
LOCATION:Av. Pau Casals, 18-20 (Àrea central) 08450 Llinars del Vallès
METHOD:PUBLISH
X-WR-CALNAME:info@llinarsdelvalles.cat
X-WR-TIMEZONE:Europe/Madrid
DESCRIPTION:Organitza: Patinatge artístic Llinars.

URI:https://www.llinarsdelvalles.cat/actualitat/agenda/open-barcelona-promocio-nivell-1-2-3-4.html
CLASS:PUBLIC
END:VEVENT
END:VCALENDAR
