BEGIN:VCALENDAR
VERSION:2.0
CALSCALE:GREGORIAN
PRODID:-//Diputació de Barcelona//DibaCMS//EN
BEGIN:VEVENT
UID:56902
DTSTAMP:20260421T044251
DTSTART:20230615T193000
DTEND:20230615T193000
SUMMARY:Viu la ruta del vi DO Alella a Llinars del Vallès: Enotast.
LOCATION:Casa rural Paratgea, camí a Can Canal B-510 
METHOD:PUBLISH
X-WR-CALNAME:info@llinarsdelvalles.cat
X-WR-TIMEZONE:Europe/Madrid
DESCRIPTION:
URI:https://www.llinarsdelvalles.cat/actualitat/agenda/56902-viu-la-ruta-del-vi-do-alella-a-llinars-del-valles-enotast.html
CLASS:PUBLIC
END:VEVENT
END:VCALENDAR
