BEGIN:VCALENDAR
VERSION:2.0
CALSCALE:GREGORIAN
PRODID:-//Diputació de Barcelona//DibaCMS//EN
BEGIN:VEVENT
UID:56903
DTSTAMP:20260421T045947
DTSTART:20230616T170000
DTEND:20230616T170000
SUMMARY:Conferència "Preparem les nostres ments per protegir el planeta"
LOCATION:C/ Ramon i Cajal - (cantonada Av. Granollers) 08450 Llinars del Vallés
METHOD:PUBLISH
X-WR-CALNAME:info@llinarsdelvalles.cat
X-WR-TIMEZONE:Europe/Madrid
DESCRIPTION:A càrrec de Josep Maria Nogué (geòleg)

URI:https://www.llinarsdelvalles.cat/actualitat/agenda/conferencia-preparem-les-nostres-ments-per-protegir-el-planeta.html
CLASS:PUBLIC
END:VEVENT
END:VCALENDAR
