BEGIN:VCALENDAR
VERSION:2.0
CALSCALE:GREGORIAN
PRODID:-//Diputació de Barcelona//DibaCMS//EN
BEGIN:VEVENT
UID:56904
DTSTAMP:20260421T033919
DTSTART:20230616T170000
DTEND:20230616T203000
SUMMARY:Cloenda de tallers de La Masoveria
LOCATION:C/ Mas Bagà, 24 08450 Llinars del Vallés
METHOD:PUBLISH
X-WR-CALNAME:info@llinarsdelvalles.cat
X-WR-TIMEZONE:Europe/Madrid
DESCRIPTION:Al pati de Can Mas Bagà.

URI:https://www.llinarsdelvalles.cat/actualitat/agenda/cloenda-de-tallers-de-la-masoveria.html
CLASS:PUBLIC
END:VEVENT
END:VCALENDAR
