BEGIN:VCALENDAR
VERSION:2.0
CALSCALE:GREGORIAN
PRODID:-//Diputació de Barcelona//DibaCMS//EN
BEGIN:VEVENT
UID:56905
DTSTAMP:20260421T061610
DTSTART:20230701T090000
DTEND:20230701T090000
SUMMARY:Sortida al parc aquàtic Illa Fantasia
LOCATION:
METHOD:PUBLISH
X-WR-CALNAME:info@llinarsdelvalles.cat
X-WR-TIMEZONE:Europe/Madrid
DESCRIPTION:
URI:https://www.llinarsdelvalles.cat/actualitat/agenda/sortida-al-parc-aquatic-illa-fantasia.html
CLASS:PUBLIC
END:VEVENT
END:VCALENDAR
