BEGIN:VCALENDAR
VERSION:2.0
CALSCALE:GREGORIAN
PRODID:-//Diputació de Barcelona//DibaCMS//EN
BEGIN:VEVENT
UID:56920
DTSTAMP:20260421T061340
DTSTART:20230630T000000
DTEND:20230702T000000
SUMMARY:"Flash Fiction" Till-Tall
LOCATION:
METHOD:PUBLISH
X-WR-CALNAME:info@llinarsdelvalles.cat
X-WR-TIMEZONE:Europe/Madrid
DESCRIPTION:Qualsevol cosa és possible a la barra d'un bar!

URI:https://www.llinarsdelvalles.cat/actualitat/agenda/flash-fiction-till-tall.html
CLASS:PUBLIC
END:VEVENT
END:VCALENDAR
